BEGIN:VCALENDAR
VERSION:2.0
PRODID:-//MLP//ical//EN
TIMEZONE-ID:Europe/Berlin
X-WR-TIMEZONE:Europe/Berlin
BEGIN:VEVENT
UID:071z@events.mlp.de
SEQUENCE:0
DTSTAMP:20260424T120200Z
DTSTART:20260430T220000Z
DTEND:20260630T220000Z
SUMMARY:Kommentar-Gewinnspiel
DESCRIPTION:Zur An-/Abmeldung und weiteren Informationen:\nevents.mlp.de/e
 vents/d3tomn0-jp/kommentar-gewinnspiel
END:VEVENT
END:VCALENDAR